BEGIN:VCALENDAR
VERSION:2.0
PRODID:-//Forces Pension Society - ECPv6.15.20//NONSGML v1.0//EN
CALSCALE:GREGORIAN
METHOD:PUBLISH
X-WR-CALNAME:Forces Pension Society
X-ORIGINAL-URL:https://forcespensionsociety.org
X-WR-CALDESC:Events for Forces Pension Society
REFRESH-INTERVAL;VALUE=DURATION:PT1H
X-Robots-Tag:noindex
X-PUBLISHED-TTL:PT1H
BEGIN:VTIMEZONE
TZID:Europe/London
BEGIN:DAYLIGHT
TZOFFSETFROM:+0000
TZOFFSETTO:+0100
TZNAME:BST
DTSTART:20220327T010000
END:DAYLIGHT
BEGIN:STANDARD
TZOFFSETFROM:+0100
TZOFFSETTO:+0000
TZNAME:GMT
DTSTART:20221030T010000
END:STANDARD
BEGIN:DAYLIGHT
TZOFFSETFROM:+0000
TZOFFSETTO:+0100
TZNAME:BST
DTSTART:20230326T010000
END:DAYLIGHT
BEGIN:STANDARD
TZOFFSETFROM:+0100
TZOFFSETTO:+0000
TZNAME:GMT
DTSTART:20231029T010000
END:STANDARD
BEGIN:DAYLIGHT
TZOFFSETFROM:+0000
TZOFFSETTO:+0100
TZNAME:BST
DTSTART:20240331T010000
END:DAYLIGHT
BEGIN:STANDARD
TZOFFSETFROM:+0100
TZOFFSETTO:+0000
TZNAME:GMT
DTSTART:20241027T010000
END:STANDARD
END:VTIMEZONE
BEGIN:VEVENT
DTSTART;TZID=Europe/London:20230613T100000
DTEND;TZID=Europe/London:20230613T140000
DTSTAMP:20260421T160704
CREATED:20230113T152057Z
LAST-MODIFIED:20230611T132248Z
UID:10001570-1686650400-1686664800@forcespensionsociety.org
SUMMARY:CTP Employment Fair South West
DESCRIPTION:Don’t miss out on the chance to meet local and national employers with both current and future job vacancies – book your place today! \nTo offer wider support that may be of interest\, CTP allocate a small number of stands to support organisations such as Jobcentre Plus\, SkillForce\, the Forces Pension Society and Royal British Legion. Do come and visit.
URL:https://forcespensionsociety.org/event/ctp-employment-fair-somerset-2/
LOCATION:Somerset
CATEGORIES:Job Fairs
END:VEVENT
END:VCALENDAR